BEGIN:VCALENDAR
VERSION:2.0
PRODID:-//NCS GeoResources, LLC - ECPv6.15.20//NONSGML v1.0//EN
CALSCALE:GREGORIAN
METHOD:PUBLISH
X-ORIGINAL-URL:https://ncsgeoresources.com
X-WR-CALDESC:Events for NCS GeoResources, LLC
REFRESH-INTERVAL;VALUE=DURATION:PT1H
X-Robots-Tag:noindex
X-PUBLISHED-TTL:PT1H
BEGIN:VTIMEZONE
TZID:America/Phoenix
BEGIN:STANDARD
TZOFFSETFROM:-0700
TZOFFSETTO:-0700
TZNAME:MST
DTSTART:20260101T000000
END:STANDARD
END:VTIMEZONE
BEGIN:VEVENT
DTSTART;TZID=America/Phoenix:20270809T083000
DTEND;TZID=America/Phoenix:20270809T133000
DTSTAMP:20260423T200421
CREATED:20260412T214815Z
LAST-MODIFIED:20260412T220737Z
UID:10000073-1817800200-1817818200@ncsgeoresources.com
SUMMARY:Online Workshop on Embankments and Their Interaction with Structures and Subsurface Utilities
DESCRIPTION:Embankment fills are commonly used to meet the vertical grade requirements of a facility. Fills placed to accommodate the vertical profile as the roadway approaches a bridge are often referred to as “approach embankment fills” or “approach roadway fills.”  Embankment fills are also needed for many other infrastructure projects. Deformation and instability (local or global)\, both vertical and lateral\, of embankment fills are common problems. Consideration of the effects of such fills on structures founded on fills\, adjacent structures\, and subsurface utilities is important to avoid costly post-construction maintenance and potential legal issues; e.g.\, approach embankment fill deformation near a bridge structure leads to the ubiquitous “bump at the end of the bridge.”  This workshop discusses the mechanisms of internal and external deformation in embankment fills. Evaluation of subsurface stresses and slope stability aspects related to embankment fills is also discussed. Estimation of the ground compaction factor is discussed\, which is a key element for the determination of final earthwork quantities.  Good practices for ensuring the stability and performance of a bridge structure’s approach elements are discussed.  Practical design solutions to mitigate the embankment stability problems will be discussed. \nUsing a collaborative and interactive learning approach\, this virtual workshop will help you understand: (a) design elements for embankment fills\, and (b) the effect of embankment fills on structures in fills\, adjacent structures\, and subsurface utilities. The workshop will help you assimilate these crucial considerations through active participation\, frequent interactions\, and real-time expert feedback. These interactions will help you better understand the nuances of design and construction procedures\, so you can avoid costly errors in real-world projects. Between the two live sessions\, attendees will work independently on an application (e.g.\, exercises) or a reflection (e.g.\, reading) assignment. \nSESSION 1 \n\nIntroductions\nConfiguration of embankment fills\nGeneral concepts of stress and strain\nEstimating stress distribution in foundation geomaterials\nNarrow versus wide embankment fills\nConcepts of lateral squeeze\nSlope stability considerations\nEstimation of internal and external deformations\nReview of Session 1\nInteractive Question and Answer (Q&A) session\nAssignemnt of classwork\n\nSESSION 2 \n\nReview of classwork\nBridge abutment configurations (e.g.\, stub\, open\, integral\, MSE\, etc.)\nEffects of fills on bridge abutments\nEffects of fills on approach slabs\nEffects on subsurface utilities\nSelection of embankment fill materials\nCompaction procedures and induced stresses\nSuggestions for geotechnical investigations\nSuggestions for mitigation of embankment stability problems\nReview of Session 2 and full workshop\nInteractive Question and Answer (Q&A) session\nAdjourn
URL:https://ncsgeoresources.com/event/online-workshop-on-embankments-and-their-interaction-with-structures-and-subsurface-utilities/
LOCATION:Online
END:VEVENT
END:VCALENDAR