BEGIN:VCALENDAR
VERSION:2.0
PRODID:-//NCS GeoResources, LLC - ECPv6.15.20//NONSGML v1.0//EN
CALSCALE:GREGORIAN
METHOD:PUBLISH
X-WR-CALNAME:NCS GeoResources, LLC
X-ORIGINAL-URL:https://ncsgeoresources.com
X-WR-CALDESC:Events for NCS GeoResources, LLC
REFRESH-INTERVAL;VALUE=DURATION:PT1H
X-Robots-Tag:noindex
X-PUBLISHED-TTL:PT1H
BEGIN:VTIMEZONE
TZID:America/Phoenix
BEGIN:STANDARD
TZOFFSETFROM:-0700
TZOFFSETTO:-0700
TZNAME:MST
DTSTART:20260101T000000
END:STANDARD
END:VTIMEZONE
BEGIN:VEVENT
DTSTART;TZID=America/Phoenix:20271018T083000
DTEND;TZID=America/Phoenix:20271018T133000
DTSTAMP:20260423T222033
CREATED:20260412T213325Z
LAST-MODIFIED:20260412T220443Z
UID:10000068-1823848200-1823866200@ncsgeoresources.com
SUMMARY:Online Workshop: Soil Nail Walls - Design and Construction
DESCRIPTION:Soil nailing technology is versatile and has been widely used worldwide over the last 3 decades for temporary and permanent excavation support. The design and performance of soil nail walls are intricately linked with their construction procedures.  To avoid adverse performance issues\, design and construction processes for a soil nail wall must be tailored to specific geometry and the environment (conditions) expected over its specified lifetime. This workshop will help participants gain a better understanding of design and construction procedures using limit-state concepts\, aligned with the latest guidelines based on the Load and Resistance Factor Design (LRFD) methodology of the American Association of State Highway Officials (AASHTO) and the Federal Highway Administration (FHWA). The contrast between LRFD and Allowable Stress Design (ASD) methodologies will also be included. Design and construction (including field testing) aspects of Solid Bar Soil Nails (SBSNs) and Hollow Bar Soil Nails (HBSNs) will be discussed. \nUsing a collaborative\, interactive learning approach\, this virtual workshop will help you understand the design and construction of soil-nail walls. You will learn new design approaches based on the LRFD platform\, which underpins the American Association of State Highway and Transportation Officials (AASHTO) and the Federal Highway Administration (FHWA) guidelines for soil nail walls. The workshop will help you assimilate the design and construction aspects through active participation by frequent interactions throughout the workshop and real-time expert feedback. These interactions will help you understand the nuances of the newer design principles and avoid costly design errors in real-world projects. Between the two live sessions\, attendees will work independently on an application (e.g.\, exercises) or a reflection (e.g.\, reading) assignment. \nSession 1 of 2 \n\nIntroductions\nTerminology\, construction steps\, applications\, and explorations\nLimit states\, load factors\, and resistance factors\nService limit state (wall movements)\nStrength and Extreme Event limit states\nLimit Equilibrium (LE) analysis software tools\nCorrosion Considerations\nFacing (shotcrete)\nReview of Session 1\nInteractive Question and Answer (Q&A) session\nAssignment of classwork\nAdjourn for classwork and break\n\nSession 2 of 2 \n\nRoadmap for Session 2\nReview of classwork assignments\nInformation for plans and specifications\nNail types and construction processes\nGrout and grouting\nNail testing and nail acceptance criteria\nClosure and References\nReview of Session 2 and full workshop\nInteractive Question and Answer (Q&A) session
URL:https://ncsgeoresources.com/event/online-workshop-soil-nail-walls-design-and-construction-3/
LOCATION:Online
END:VEVENT
END:VCALENDAR